BEGIN:VCALENDAR
VERSION:2.0
PRODID:-//Efecto Mariposa - ECPv6.15.20//NONSGML v1.0//EN
CALSCALE:GREGORIAN
METHOD:PUBLISH
X-WR-CALNAME:Efecto Mariposa
X-ORIGINAL-URL:https://efectodemariposa.com
X-WR-CALDESC:Eventos para Efecto Mariposa
REFRESH-INTERVAL;VALUE=DURATION:PT1H
X-Robots-Tag:noindex
X-PUBLISHED-TTL:PT1H
BEGIN:VTIMEZONE
TZID:UTC
BEGIN:STANDARD
TZOFFSETFROM:+0000
TZOFFSETTO:+0000
TZNAME:UTC
DTSTART:20230101T000000
END:STANDARD
END:VTIMEZONE
BEGIN:VEVENT
DTSTART;TZID=UTC:20241030T200000
DTEND;TZID=UTC:20241030T210000
DTSTAMP:20260423T035202
CREATED:20241016T150746Z
LAST-MODIFIED:20241024T041959Z
UID:789-1730318400-1730322000@efectodemariposa.com
SUMMARY:Clase de bachata nivel abierto
DESCRIPTION:La bachata sensual se ha desarrollado sobre todo en Barcelona y se podría decir que es el baile de moda de los últimos años. Bailar bachata es una experiencia increíble y no te puedes perder esta experiencia si estás en Barcelona. Además\, con el baile\, conocerás a un montón de gente nueva. ¡Te encantará! \n\nEdad de 15 a 60 años\n\n\nDuración: 1 h\n\n\nHora de inicio: 20h\nDonde: Parque España Industrial al lado de Punt Multimèdia – Fab Casa del Mig\n\n\nEntrada para dispositivos móviles\nPrecio 5€/ persona en efectivo\nProfesores Nadia y Juan
URL:https://efectodemariposa.com/evento/clase-de-bachata-nivel-abierto/
LOCATION:parque España industrial Barcelona\, Parque España Industrial\, Barcelona\, Barcelona\, 08014\, Spain
CATEGORIES:Danza
ATTACH;FMTTYPE=image/jpeg:https://efectodemariposa.com/wp-content/uploads/2024/10/1000113447.jpg
ORGANIZER;CN="Efecto de Mariposa":MAILTO:cisarovnna@gmail.com
END:VEVENT
END:VCALENDAR