BEGIN:VCALENDAR
VERSION:2.0
PRODID:-//Efecto Mariposa - ECPv6.15.20//NONSGML v1.0//EN
CALSCALE:GREGORIAN
METHOD:PUBLISH
X-WR-CALNAME:Efecto Mariposa
X-ORIGINAL-URL:https://efectodemariposa.com
X-WR-CALDESC:Eventos para Efecto Mariposa
REFRESH-INTERVAL;VALUE=DURATION:PT1H
X-Robots-Tag:noindex
X-PUBLISHED-TTL:PT1H
BEGIN:VTIMEZONE
TZID:Europe/Paris
BEGIN:DAYLIGHT
TZOFFSETFROM:+0100
TZOFFSETTO:+0200
TZNAME:CEST
DTSTART:20230326T010000
END:DAYLIGHT
BEGIN:STANDARD
TZOFFSETFROM:+0200
TZOFFSETTO:+0100
TZNAME:CET
DTSTART:20231029T010000
END:STANDARD
BEGIN:DAYLIGHT
TZOFFSETFROM:+0100
TZOFFSETTO:+0200
TZNAME:CEST
DTSTART:20240331T010000
END:DAYLIGHT
BEGIN:STANDARD
TZOFFSETFROM:+0200
TZOFFSETTO:+0100
TZNAME:CET
DTSTART:20241027T010000
END:STANDARD
BEGIN:DAYLIGHT
TZOFFSETFROM:+0100
TZOFFSETTO:+0200
TZNAME:CEST
DTSTART:20250330T010000
END:DAYLIGHT
BEGIN:STANDARD
TZOFFSETFROM:+0200
TZOFFSETTO:+0100
TZNAME:CET
DTSTART:20251026T010000
END:STANDARD
END:VTIMEZONE
BEGIN:VEVENT
DTSTART;TZID=Europe/Paris:20241113T200000
DTEND;TZID=Europe/Paris:20241113T210000
DTSTAMP:20260423T035350
CREATED:20241029T080715Z
LAST-MODIFIED:20241101T085812Z
UID:878-1731528000-1731531600@efectodemariposa.com
SUMMARY:Clase de bachata nivel abierto
DESCRIPTION:La bachata sensual se ha desarrollado sobre todo en Barcelona y se podría decir que es el baile de moda de los últimos años. Bailar bachata es una experiencia increíble y no te puedes perder esta experiencia si estás en Barcelona. Además\, con el baile\, conocerás a un montón de gente nueva. ¡Te encantará! \nEdad de 15 a 60 años\nDuración: 1 h\nHora de inicio: 20h\nDonde: Parque España Industrial al lado de Punt Multimèdia – Fab Casa del Mig \nPrecio 5€/ persona en efectivo\nProfesores Nadia y Juan
URL:https://efectodemariposa.com/evento/clase-de-bachata-nivel-abierto-3/
LOCATION:parque España industrial Barcelona\, Parque España Industrial\, Barcelona\, Barcelona\, 08014\, Spain
CATEGORIES:Danza
ATTACH;FMTTYPE=image/jpeg:https://efectodemariposa.com/wp-content/uploads/2024/10/1000113447.jpg
ORGANIZER;CN="Efecto de Mariposa":MAILTO:cisarovnna@gmail.com
END:VEVENT
END:VCALENDAR