BEGIN:VCALENDAR
VERSION:2.0
PRODID:-//Efecto Mariposa - ECPv6.15.20//NONSGML v1.0//EN
CALSCALE:GREGORIAN
METHOD:PUBLISH
X-WR-CALNAME:Efecto Mariposa
X-ORIGINAL-URL:https://efectodemariposa.com
X-WR-CALDESC:Eventos para Efecto Mariposa
REFRESH-INTERVAL;VALUE=DURATION:PT1H
X-Robots-Tag:noindex
X-PUBLISHED-TTL:PT1H
BEGIN:VTIMEZONE
TZID:Europe/Madrid
BEGIN:DAYLIGHT
TZOFFSETFROM:+0100
TZOFFSETTO:+0200
TZNAME:CEST
DTSTART:20240331T010000
END:DAYLIGHT
BEGIN:STANDARD
TZOFFSETFROM:+0200
TZOFFSETTO:+0100
TZNAME:CET
DTSTART:20241027T010000
END:STANDARD
BEGIN:DAYLIGHT
TZOFFSETFROM:+0100
TZOFFSETTO:+0200
TZNAME:CEST
DTSTART:20250330T010000
END:DAYLIGHT
BEGIN:STANDARD
TZOFFSETFROM:+0200
TZOFFSETTO:+0100
TZNAME:CET
DTSTART:20251026T010000
END:STANDARD
BEGIN:DAYLIGHT
TZOFFSETFROM:+0100
TZOFFSETTO:+0200
TZNAME:CEST
DTSTART:20260329T010000
END:DAYLIGHT
BEGIN:STANDARD
TZOFFSETFROM:+0200
TZOFFSETTO:+0100
TZNAME:CET
DTSTART:20261025T010000
END:STANDARD
END:VTIMEZONE
BEGIN:VEVENT
DTSTART;TZID=Europe/Madrid:20250405T153000
DTEND;TZID=Europe/Madrid:20250405T223000
DTSTAMP:20260424T212300
CREATED:20250213T121457Z
LAST-MODIFIED:20250213T121647Z
UID:1503-1743867000-1743892200@efectodemariposa.com
SUMMARY:Festival de Bachata: MI SENTIR
DESCRIPTION:Con la ilusión de brindarles un espacio único y auténtico a todos aquellos amantes de la Bachata. Ya sea que lleven tiempo pensando en sumergirse por primera vez o sean unos grandes apasionados de la Cultura Dominicana con un toque moderno\, éste es su espacio. \nLes ofreceremos dos Masterclasses; \nUna de Bachata Moderna aplicada a la Tradicional y otra de Footwork. Y un taller sorpresa \n¡Tendrán un Challenge en el que todos serán bienvenidos a participar! \nDespués iniciaremos con el baile social\, cátering y un sorteo para los asistentes. \n¡Se vienen muchas sorpresas más\, no te lo puedes perder! \nMúsica que se ofrece en el social: Bachata Tradicional\, Bachata Moderna\, Merengue\, Salsa\, Dembow. \n  \nCUANDO: 5 de abril 2025 \nDONDE: Barcelona\,  C/Vilamarí 106 08015 – Barcelona \nHorario: 15:30 – 22:30h \nAplica el descuento: DESCUENTO MI SENTIR
URL:https://efectodemariposa.com/evento/festival-de-bachata-mi-sentir/
CATEGORIES:Danza
END:VEVENT
END:VCALENDAR